BEGIN:VCALENDAR
VERSION:2.0
PRODID:-//ChamberMaster//Event Calendar 2.0//EN
METHOD:PUBLISH
X-PUBLISHED-TTL:P3D
REFRESH-INTERVAL:P3D
CALSCALE:GREGORIAN
BEGIN:VEVENT
DTSTART:20201008T130000Z
DTEND:20201008T140000Z
X-MICROSOFT-CDO-ALLDAYEVENT:FALSE
SUMMARY:YIPS: Coffee Networking
DESCRIPTION:Join the Young Independence Professionals for a networking coffee event! The YIPs will be at Blendwell from 8-9am on Thursday\, October 8th. Stop by and say hello\, whether you are already a YIP or interested in being one!
X-ALT-DESC;FMTTYPE=text/html:Join the Young Independence Professionals for a networking coffee event! The YIPs will be at Blendwell from 8-9am on Thursday\, October 8th. Stop by and say hello\, whether you are already a YIP or interested in being one!
LOCATION:Blendwell Community Caf 10725 US-24\, Independence\, MO 64054
UID:e.2043.13032
SEQUENCE:3
DTSTAMP:20260422T171907Z
URL:http://independencemo.chambermaster.com/events/details/yips-coffee-networking-13032
END:VEVENT

END:VCALENDAR
