BEGIN:VCALENDAR
VERSION:2.0
PRODID:-//ChamberMaster//Event Calendar 2.0//EN
METHOD:PUBLISH
X-PUBLISHED-TTL:P3D
REFRESH-INTERVAL:P3D
CALSCALE:GREGORIAN
BEGIN:VEVENT
DTSTART:20200804T150000Z
DTEND:20200804T160000Z
X-MICROSOFT-CDO-ALLDAYEVENT:FALSE
SUMMARY:Diversity & Inclusion Webinar
DESCRIPTION:Employees and consumers alike are seeking out more socially responsible companies\, and organizations have taken notice. More and more companies are taking intentional action to foster a diverse\, equitable and inclusive environment for employees. During this 4-week series\, we will explore best practices and inspire frank discussion around this critical issue.
X-ALT-DESC;FMTTYPE=text/html:<span style="font-size:14px\;"><span style="font-family:arial\;"><span style="color: rgb(64\, 68\, 72)\; letter-spacing: 0.4px\;">Employees and consumers alike are seeking out more socially responsible companies\, and organizations have taken notice. More and more companies are taking intentional action to foster a diverse\, equitable and inclusive environment for employees. During this 4-week series\, we will explore best practices and inspire frank discussion around this critical issue.</span></span></span>
LOCATION:Missouri Chamber of Commerce Webinar
UID:e.2043.12912
SEQUENCE:3
DTSTAMP:20260426T004658Z
URL:http://independencemo.chambermaster.com/events/details/diversity-inclusion-webinar-08-04-2020-12912
END:VEVENT

END:VCALENDAR
