BEGIN:VCALENDAR
VERSION:2.0
PRODID:-//ChamberMaster//Event Calendar 2.0//EN
METHOD:PUBLISH
X-PUBLISHED-TTL:P3D
REFRESH-INTERVAL:P3D
CALSCALE:GREGORIAN
BEGIN:VEVENT
DTSTART:20200714T150000Z
DTEND:20200714T160000Z
X-MICROSOFT-CDO-ALLDAYEVENT:FALSE
SUMMARY:An Untapped Workforce Solution
DESCRIPTION:The Workforce and Economic Development Division is pleased to offer a series of additional webinars to address workforce issues during this unprecedented time. \n\n \n\nThe next session is entitled "Partnering in Crisis: An Untapped Workforce Solution." The webinar will be presented by Brandi Jahnke\, Vice-President of Programs at Connections to Success and Shonda Atwater\, Apprenticeship Manager at Metropolitan Community College.
X-ALT-DESC;FMTTYPE=text/html:<span style="font-size:12px\;"><span style="color:#161D26\;"><span style="font-family:arial\,sans-serif\;">The Workforce and Economic Development Division is pleased to offer a series of additional webinars to address workforce issues during this unprecedented time. </span></span><br />\n&nbsp\;<br />\n<span style="color:#161D26\;"><span style="font-family:arial\,sans-serif\;">The next session is entitled &quot\;<strong><em>Partnering in Crisis:</em></strong> <strong><em>An Untapped Workforce Solution.</em></strong>&quot\; The webinar will be presented by Brandi Jahnke\, Vice-President of Programs at Connections to Success and&nbsp\;Shonda Atwater\, Apprenticeship Manager at Metropolitan Community College.&nbsp\;</span></span></span>
LOCATION:Webinar--Register for Link
UID:e.2043.12928
SEQUENCE:3
DTSTAMP:20260425T142522Z
URL:http://independencemo.chambermaster.com/events/details/an-untapped-workforce-solution-12928
END:VEVENT

END:VCALENDAR
