BEGIN:VCALENDAR
VERSION:2.0
PRODID:-//ChamberMaster//Event Calendar 2.0//EN
METHOD:PUBLISH
X-PUBLISHED-TTL:P3D
REFRESH-INTERVAL:P3D
CALSCALE:GREGORIAN
BEGIN:VEVENT
DTSTART:20201024T140000Z
DTEND:20201025T213000Z
X-MICROSOFT-CDO-ALLDAYEVENT:FALSE
SUMMARY:34th Annual Fall Muster
DESCRIPTION:The annual event will ignite your senses. Smell burning gun powder along with savory meals prepared using historic techniques and ingredients. Take in the sights and sounds of officers barking commands and fire the occasional shot of the cannon\, authentically attired interpreters drill\, play military music and bring the past to life.
X-ALT-DESC;FMTTYPE=text/html:<span style="font-family:calibri\,sans-serif\; font-size:12pt">The annual event will ignite your senses. Smell burning gun powder along with savory meals prepared using historic techniques and ingredients. Take in the sights and sounds of officers barking commands and fire the occasional shot of the cannon\, authentically attired interpreters drill\, play military music and bring the past to life.&nbsp\;</span>
LOCATION:Fort Osage National Historic Landmark 107 Osage Street Sibley\, Missouri 64088
UID:e.2043.12781
SEQUENCE:3
DTSTAMP:20260423T052158Z
URL:http://independencemo.chambermaster.com/events/details/34th-annual-fall-muster-12781
END:VEVENT

END:VCALENDAR
